BEGIN:VCALENDAR
VERSION:2.0
PRODID:-//OneGov//onegov.event//
BEGIN:VEVENT
SUMMARY:VKD Räbeliechtliumzug
DTSTART:20221103T163000Z
DTEND:20221103T190000Z
DTSTAMP:20220107T154214Z
UID:vkd-raebeliechtliumzug-1-2022-11-03@onegov.event
CATEGORIES:
DESCRIPTION:8 Personen
LAST-MODIFIED:20220107T154214Z
LOCATION:
URL:https://veranstaltungen-feuerwehr-steinhausen.onegovcloud.ch/event/vkd
 -raebeliechtliumzug-1-2022-11-03
END:VEVENT
END:VCALENDAR
